BEGIN:VCALENDAR
VERSION:2.0
PRODID:-//The Heart Sounds - ECPv6.15.14//NONSGML v1.0//EN
CALSCALE:GREGORIAN
METHOD:PUBLISH
X-WR-CALNAME:The Heart Sounds
X-ORIGINAL-URL:https://www.theheartsounds.com
X-WR-CALDESC:Events for The Heart Sounds
REFRESH-INTERVAL;VALUE=DURATION:PT1H
X-Robots-Tag:noindex
X-PUBLISHED-TTL:PT1H
BEGIN:VTIMEZONE
TZID:America/Mexico_City
BEGIN:STANDARD
TZOFFSETFROM:-0600
TZOFFSETTO:-0600
TZNAME:CST
DTSTART:20230101T000000
END:STANDARD
END:VTIMEZONE
BEGIN:VEVENT
DTSTART;TZID=America/Mexico_City:20241004T193000
DTEND;TZID=America/Mexico_City:20241004T193000
DTSTAMP:20260424T023621
CREATED:20240503T002045Z
LAST-MODIFIED:20240503T002045Z
UID:10000200-1728070200-1728070200@www.theheartsounds.com
SUMMARY:John Lydon - San Antonio - Empire Theatre
DESCRIPTION:More information HERE
URL:https://www.theheartsounds.com/event/john-lydon-san-antonio-empire-theatre/
LOCATION:Empire Theatre\, 226 N St Mary's St\, San Antonio\, TX\, 78205\, United States
CATEGORIES:Concerts
ATTACH;FMTTYPE=image/jpeg:https://www.theheartsounds.com/wp-content/uploads/2024/05/00-Apr-115.jpg
END:VEVENT
BEGIN:VEVENT
DTSTART;TZID=America/Mexico_City:20240608T200000
DTEND;TZID=America/Mexico_City:20240608T200000
DTSTAMP:20260424T023621
CREATED:20240503T001617Z
LAST-MODIFIED:20240503T001617Z
UID:10000199-1717876800-1717876800@www.theheartsounds.com
SUMMARY:Todd Rundgren - San Antonio - Empire Theatre
DESCRIPTION:More information HERE
URL:https://www.theheartsounds.com/event/todd-rundgren-san-antonio-empire-theatre/
LOCATION:Empire Theatre\, 226 N St Mary's St\, San Antonio\, TX\, 78205\, United States
CATEGORIES:Concerts
ATTACH;FMTTYPE=image/jpeg:https://www.theheartsounds.com/wp-content/uploads/2024/05/00-Apr-114.jpg
END:VEVENT
BEGIN:VEVENT
DTSTART;TZID=America/Mexico_City:20240516T073000
DTEND;TZID=America/Mexico_City:20240516T073000
DTSTAMP:20260424T023621
CREATED:20240503T000759Z
LAST-MODIFIED:20240503T002113Z
UID:10000198-1715844600-1715844600@www.theheartsounds.com
SUMMARY:Kamasi Washington - San Antonio - Empire Theatre
DESCRIPTION:More information HERE
URL:https://www.theheartsounds.com/event/kamasi-washington-san-antonio-empire-theatre/
LOCATION:Empire Theatre\, 226 N St Mary's St\, San Antonio\, TX\, 78205\, United States
CATEGORIES:Concerts
ATTACH;FMTTYPE=image/jpeg:https://www.theheartsounds.com/wp-content/uploads/2024/05/00-Apr-113.jpg
END:VEVENT
END:VCALENDAR